BEGIN:VCALENDAR
VERSION:2.0
PRODID:LFV Website-Kit
METHOD:PUBLISH
BEGIN:VEVENT
UID:lfv-5da3cdfc-2827-469b-a2a7-3fc63132df4e
LOCATION:Kasernplatz 10 1/2 89407 Dillingen
SUMMARY:Herbstfest der Feuerwehr Dillingen
DESCRIPTION:Termin Link: https://www.feuerwehr-dillingen.de/termine/herbstfest-der-feuerwehr-dillingen-1/
URL:https://www.feuerwehr-dillingen.de/termine/herbstfest-der-feuerwehr-dillingen-1/
CLASS:PRIVATE
DTSTART;TZID=Europe/Berlin:20251004T193000
DTEND;TZID=Europe/Berlin:20251004T203000
DTSTAMP:20260422T125113Z
END:VEVENT
END:VCALENDAR